BEGIN:VCALENDAR
VERSION:2.0
PRODID:-//Heritage Empowered - ECPv6.15.20//NONSGML v1.0//EN
CALSCALE:GREGORIAN
METHOD:PUBLISH
X-ORIGINAL-URL:https://heritageempowered.com
X-WR-CALDESC:Events for Heritage Empowered
REFRESH-INTERVAL;VALUE=DURATION:PT1H
X-Robots-Tag:noindex
X-PUBLISHED-TTL:PT1H
BEGIN:VTIMEZONE
TZID:America/New_York
BEGIN:DAYLIGHT
TZOFFSETFROM:-0500
TZOFFSETTO:-0400
TZNAME:EDT
DTSTART:20230312T070000
END:DAYLIGHT
BEGIN:STANDARD
TZOFFSETFROM:-0400
TZOFFSETTO:-0500
TZNAME:EST
DTSTART:20231105T060000
END:STANDARD
BEGIN:DAYLIGHT
TZOFFSETFROM:-0500
TZOFFSETTO:-0400
TZNAME:EDT
DTSTART:20240310T070000
END:DAYLIGHT
BEGIN:STANDARD
TZOFFSETFROM:-0400
TZOFFSETTO:-0500
TZNAME:EST
DTSTART:20241103T060000
END:STANDARD
BEGIN:DAYLIGHT
TZOFFSETFROM:-0500
TZOFFSETTO:-0400
TZNAME:EDT
DTSTART:20250309T070000
END:DAYLIGHT
BEGIN:STANDARD
TZOFFSETFROM:-0400
TZOFFSETTO:-0500
TZNAME:EST
DTSTART:20251102T060000
END:STANDARD
END:VTIMEZONE
BEGIN:VEVENT
DTSTART;TZID=America/New_York:20240408T080000
DTEND;TZID=America/New_York:20240414T170000
DTSTAMP:20260425T162035
CREATED:20240116T225010Z
LAST-MODIFIED:20240116T225010Z
UID:6537-1712563200-1713114000@heritageempowered.com
SUMMARY:HBCU College Tour - Southern Tour - April 8th - 14th
DESCRIPTION:REGISTER
URL:https://heritageempowered.com/event/hbcu-college-tour-southern-tour-april-8th-14th/
CATEGORIES:2024 Spring Tours,HBCU College Tour,Southern Tour
ATTACH;FMTTYPE=image/png:https://heritageempowered.com/wp-content/uploads/2023/03/Heritage-Empowered-Black-Logo-4.png
ORGANIZER;CN="Heritage Empowered Tours":MAILTO:info@heritageempowered.com
END:VEVENT
BEGIN:VEVENT
DTSTART;VALUE=DATE:20240324
DTEND;VALUE=DATE:20240331
DTSTAMP:20260425T162035
CREATED:20240116T224520Z
LAST-MODIFIED:20240116T225100Z
UID:6534-1711238400-1711843199@heritageempowered.com
SUMMARY:HBCU College Tour - Southern Tour - March 24th - 30th
DESCRIPTION:REGISTER
URL:https://heritageempowered.com/event/hbcu-college-tour-southern-tour-march-24th-30th/
CATEGORIES:2024 Spring Tours,HBCU College Tour,Southern Tour
ATTACH;FMTTYPE=image/png:https://heritageempowered.com/wp-content/uploads/2023/03/Heritage-Empowered-Black-Logo-4.png
ORGANIZER;CN="Heritage Empowered Tours":MAILTO:info@heritageempowered.com
END:VEVENT
BEGIN:VEVENT
DTSTART;VALUE=DATE:20240309
DTEND;VALUE=DATE:20240317
DTSTAMP:20260425T162035
CREATED:20230729T201721Z
LAST-MODIFIED:20240116T225203Z
UID:6451-1709942400-1710633599@heritageempowered.com
SUMMARY:HBCU College Tour - Southern
DESCRIPTION:REGISTER
URL:https://heritageempowered.com/event/hbcu-college-tour-southern-1/
CATEGORIES:2024 Spring Tours,HBCU College Tour,Southern Tour
ATTACH;FMTTYPE=image/jpeg:https://heritageempowered.com/wp-content/uploads/2023/07/SOLD-OUT.jpg
ORGANIZER;CN="Heritage Empowered Tours":MAILTO:info@heritageempowered.com
END:VEVENT
END:VCALENDAR